!table
!version 300
!charset WindowsLatin1

Definition Table
  File "f:\cambridge_gis_maps_2\orthos_disk_a\mrsid\sid10x_1995.sid"
  Type "RASTER"
  (747000,2974000) (0,0) Label "Pt 1",
  (777000,2974000) (30000,0) Label "Pt 2",
  (777000,2952000) (30000,22000) Label "Pt 3",
  (747000,2952000) (0,22000) Label "Pt 4"
  CoordSys Earth Projection 3, 33, "survey ft", -71.5, 41, 41.7166666667, 42.6833333333, 656166.66669999994, 2460625
  Units "survey ft"
