!table
!version 300
!charset WindowsLatin1

Definition Table
  File "alberoni.jpg"
  Type "RASTER"
  (12.317208,45.339389) (5520,1178) Label "Pt 1",
  (12.313025,45.345186) (5216,529) Label "Pt 2",
  (12.32041,45.344601) (5784,623) Label "Pt 3"
  CoordSys Earth Projection 1, 0
  Units "degree"
